BEGIN:VCALENDAR
VERSION:2.0
PRODID:-//ChamberMaster//Event Calendar 2.0//EN
METHOD:PUBLISH
X-PUBLISHED-TTL:P3D
REFRESH-INTERVAL:P3D
CALSCALE:GREGORIAN
BEGIN:VEVENT
DTSTART:20250626T213000Z
DTEND:20250627T010000Z
X-MICROSOFT-CDO-ALLDAYEVENT:FALSE
SUMMARY:Tech Thursdays
DESCRIPTION:International LGBTQ+ Pride Day\n\n\n\n\n\n \n\n\n\n\n\n\n\n\n\n\nJoin us for an inspiring evening of conversation\, community\, and celebration as we mark International LGBTQ+ Pride Day in the heart of Winnipeg's Exchange District.\n\n \n\nCo-hosted by Social Entrepreneurship Enclave\, this event brings together voices from tech\, communications\, and social impact to explore what pride\, leadership\, and inclusion mean in today's business landscape.\n\n \n\nOur panelists are:\n\nModerator: Amos Bridgman   QueerTech\n\nJade Null   Founder\, GlitchSecure\n\nAlex Kohut   CEO\, Cal's Crops\n\nKathryn LeBlanc   Owner\, LeBlanc & Co. Communications\n\n \n\nWhether you're an entrepreneur\, ally\, activist\, or advocate   come connect\, learn\, and celebrate with us.\n\n\n\n\n\n\n \n\nStick around for a happy hour right after the event!\n\n\n\n\n\nRegister Here
X-ALT-DESC;FMTTYPE=text/html:<div class="Layout-module__module___2eUcs Layout-module__title___2YUKj" data-testid="title" style="margin: 0px\; padding: 0px\; box-sizing: border-box\; color: rgb(57\, 54\, 79)\; font-family: &quot\;Neue Plak&quot\;\, -apple-system\, BlinkMacSystemFont\, Roboto\, &quot\;Helvetica Neue&quot\;\, Helvetica\, Tahoma\, Arial\, sans-serif\; font-size: 14px\;">\n<div class="event-details__main-inner" style="margin: auto\; padding-top: \; padding-right: 0px\; padding-bottom: \; padding-left: 0px\; box-sizing: border-box\; -webkit-box-flex: 1\; flex: 1 1 0%\;">\n<h1 class="event-title css-0" style="font-size: 3.25rem\; margin-top: 0px\; margin-right: 0px\; margin-bottom: calc(var(--base-unit)*4)\; margin-left: 0px\; padding: 0px\; box-sizing: border-box\; color: rgb(30\, 10\, 60)\; font-weight: 800\; line-height: 4rem\; word-break: break-word\;"><span style="color: rgb(19\, 32\, 38)\; font-family: bold\; font-size: 55px\; letter-spacing: -1px\;">International LGBTQ+ Pride Day</span></h1>\n</div>\n</div>\n\n<div class="Layout-module__module___2eUcs Layout-module__creatorCollections___16CyM" data-testid="creatorCollections" style="margin: 0px\; padding: 0px\; box-sizing: border-box\; color: rgb(57\, 54\, 79)\; font-family: &quot\;Neue Plak&quot\;\, -apple-system\, BlinkMacSystemFont\, Roboto\, &quot\;Helvetica Neue&quot\;\, Helvetica\, Tahoma\, Arial\, sans-serif\; font-size: 14px\;">\n<div class="event-details__main-inner" style="margin: auto\; padding-top: \; padding-right: 0px\; padding-bottom: \; padding-left: 0px\; box-sizing: border-box\; -webkit-box-flex: 1\; flex: 1 1 0%\;">\n<div class="creator-collections-link" data-testid="link-to-creator-collections" id="link-to-creator-collections" style="margin-top: 0px\; margin-right: 0px\; margin-bottom: calc(var(--base-unit)*4)\; margin-left: 0px\; padding: 0px\; color: rgb(111\, 114\, 135)\; box-sizing: border-box\;">&nbsp\;</div>\n</div>\n</div>\n\n<div class="Layout-module__module___2eUcs Layout-module__summary___1srt-" data-testid="summary" style="margin: 0px\; padding: 0px\; box-sizing: border-box\; color: rgb(57\, 54\, 79)\; font-family: &quot\;Neue Plak&quot\;\, -apple-system\, BlinkMacSystemFont\, Roboto\, &quot\;Helvetica Neue&quot\;\, Helvetica\, Tahoma\, Arial\, sans-serif\; font-size: 14px\;">\n<div class="event-details__main-inner" style="margin: auto\; padding-top: \; padding-right: 0px\; padding-bottom: \; padding-left: 0px\; box-sizing: border-box\; -webkit-box-flex: 1\; flex: 1 1 0%\;">\n<div style="box-sizing: inherit\; -webkit-tap-highlight-color: transparent\; margin: auto !important\; line-height: inherit !important\; font-size: inherit !important\; font-family: inherit !important\;">\n<div style="box-sizing: inherit\; -webkit-tap-highlight-color: transparent\; font-size: 20px\; font-family: medium\; color: rgb(0\, 0\, 0)\; margin: auto !important\; line-height: inherit !important\;">\n<div style="box-sizing: inherit\; -webkit-tap-highlight-color: transparent\; margin: auto !important\; line-height: inherit !important\; font-size: inherit !important\; font-family: inherit !important\;">\n<div style="box-sizing: inherit\; -webkit-tap-highlight-color: transparent\; font-size: 20px\; font-family: medium\; color: rgb(0\, 0\, 0)\; margin: auto !important\; line-height: inherit !important\;">\n<div style="box-sizing: inherit\; -webkit-tap-highlight-color: transparent\; font-size: 20px\; font-family: medium\; color: rgb(0\, 0\, 0)\; margin: auto !important\; line-height: inherit !important\;">\n<div style="box-sizing: inherit\; -webkit-tap-highlight-color: transparent\; font-size: 20px\; font-family: medium\; color: rgb(0\, 0\, 0)\; margin: auto !important\; line-height: inherit !important\;">Join us for an inspiring evening of conversation\, community\, and celebration as we mark International LGBTQ+ Pride Day in the heart of Winnipeg&rsquo\;s Exchange District.</div>\n\n<div style="box-sizing: inherit\; -webkit-tap-highlight-color: transparent\; font-size: 20px\; font-family: medium\; color: rgb(0\, 0\, 0)\; margin: auto !important\; line-height: inherit !important\;">&nbsp\;</div>\n\n<div style="box-sizing: inherit\; -webkit-tap-highlight-color: transparent\; font-size: 20px\; font-family: medium\; color: rgb(0\, 0\, 0)\; margin: auto !important\; line-height: inherit !important\;">Co-hosted by Social Entrepreneurship Enclave\, this event brings together voices from tech\, communications\, and social impact to explore what pride\, leadership\, and inclusion mean in today&rsquo\;s business landscape.</div>\n\n<div style="box-sizing: inherit\; -webkit-tap-highlight-color: transparent\; font-size: 20px\; font-family: medium\; color: rgb(0\, 0\, 0)\; margin: auto !important\; line-height: inherit !important\;">&nbsp\;</div>\n\n<div style="box-sizing: inherit\; -webkit-tap-highlight-color: transparent\; font-size: 20px\; font-family: medium\; color: rgb(0\, 0\, 0)\; margin: auto !important\; line-height: inherit !important\;">Our panelists are:</div>\n\n<div style="box-sizing: inherit\; -webkit-tap-highlight-color: transparent\; font-size: 20px\; font-family: medium\; color: rgb(0\, 0\, 0)\; margin: auto !important\; line-height: inherit !important\;">Moderator:&nbsp\;<b style="box-sizing: inherit\; -webkit-tap-highlight-color: transparent\;">Amos Bridgman</b>&nbsp\;&ndash\; QueerTech</div>\n\n<div style="box-sizing: inherit\; -webkit-tap-highlight-color: transparent\; font-size: 20px\; font-family: medium\; color: rgb(0\, 0\, 0)\; margin: auto !important\; line-height: inherit !important\;"><b style="box-sizing: inherit\; -webkit-tap-highlight-color: transparent\;">Jade Null</b>&nbsp\;&ndash\; Founder\, GlitchSecure</div>\n\n<div style="box-sizing: inherit\; -webkit-tap-highlight-color: transparent\; font-size: 20px\; font-family: medium\; color: rgb(0\, 0\, 0)\; margin: auto !important\; line-height: inherit !important\;"><b style="box-sizing: inherit\; -webkit-tap-highlight-color: transparent\;">Alex Kohut</b>&nbsp\;&ndash\; CEO\, Cal&rsquo\;s Crops</div>\n\n<div style="box-sizing: inherit\; -webkit-tap-highlight-color: transparent\; font-size: 20px\; font-family: medium\; color: rgb(0\, 0\, 0)\; margin: auto !important\; line-height: inherit !important\;"><b style="box-sizing: inherit\; -webkit-tap-highlight-color: transparent\;">Kathryn LeBlanc</b>&nbsp\;&ndash\; Owner\, LeBlanc &amp\; Co. Communications</div>\n\n<div style="box-sizing: inherit\; -webkit-tap-highlight-color: transparent\; font-size: 20px\; font-family: medium\; color: rgb(0\, 0\, 0)\; margin: auto !important\; line-height: inherit !important\;">&nbsp\;</div>\n\n<div style="box-sizing: inherit\; -webkit-tap-highlight-color: transparent\; font-size: 20px\; font-family: medium\; color: rgb(0\, 0\, 0)\; margin: auto !important\; line-height: inherit !important\;">Whether you&rsquo\;re an entrepreneur\, ally\, activist\, or advocate &mdash\; come connect\, learn\, and celebrate with us.</div>\n</div>\n</div>\n</div>\n</div>\n</div>\n\n<p style="margin: 0px\; padding: 10px 0px 0px\; box-sizing: border-box\; font-size: 16px\; line-height: 1.5rem\; color: rgb(111\, 114\, 135)\; font-family: &quot\;Neue Plak&quot\;\, -apple-system\, BlinkMacSystemFont\, Roboto\, &quot\;Helvetica Neue&quot\;\, Helvetica\, Tahoma\, Arial\, sans-serif\;">&nbsp\;</p>\n\n<p style="margin: 0px\; padding: 10px 0px 0px\; box-sizing: border-box\; font-size: 16px\; line-height: 1.5rem\; color: rgb(111\, 114\, 135)\; font-family: &quot\;Neue Plak&quot\;\, -apple-system\, BlinkMacSystemFont\, Roboto\, &quot\;Helvetica Neue&quot\;\, Helvetica\, Tahoma\, Arial\, sans-serif\;">Stick around for a happy hour right after the event!</p>\n</div>\n</div>\n\n<p style="margin: 0px\; padding: 10px 0px 0px\; box-sizing: border-box\; font-size: 16px\; line-height: 1.5rem\; color: rgb(111\, 114\, 135)\; font-family: &quot\;Neue Plak&quot\;\, -apple-system\, BlinkMacSystemFont\, Roboto\, &quot\;Helvetica Neue&quot\;\, Helvetica\, Tahoma\, Arial\, sans-serif\;"><br />\n<a href="https://3common.com/event/international-lgbtq-pride-day/6834cdfa519d3dc3b3ed4b35"><strong>Register Here</strong></a></p>\n
LOCATION:King's Head Pub
UID:e.9429.1473
SEQUENCE:3
DTSTAMP:20260420T172047Z
URL:http://ictam.memberzone.com/events/details/tech-thursdays-1473
END:VEVENT

END:VCALENDAR
